BEGIN:VCALENDAR
PRODID:-//dvv-bw.de//dvv.Portalplattform//DE
VERSION:2.0
METHOD:PUBLISH
BEGIN:VEVENT
DTSTART:20270305T190000Z
DTEND:20270305T210000Z
DTSTAMP:20260426T040937Z
UID:670927569-670927569-1804201200000
SUMMARY:Four Imaginery Boys - The Cure Tribute
LOCATION:Reithalle Bürgersaal\, Am Schlossplatz 9
DESCRIPTION:5. März 2027\, 20:00 Uhr | Four Imaginary Boys - Deutschlands gefragteste sowie Europas meistgebuchte The Cure Tribute Band - besteht aus vier Herzblutmusikern\, die sich seit 2006 leidenschaftlich dem Gesamtwerk von The Cure widmen und dem Geist der legendären Wave-Götter huldigen.Spricht man von The Cure\, denkt man an die unverwechselbare und unnachahmliche Stimme von Robert Smith. Imitation oder gar Parodie verbieten sich\, nur gut\, dass es sich beim Frontmann der Four Imaginary Boys um einen vokalen Seelenverwandten zu handeln scheint.Dabei geht es den Four Imaginary Boys nicht hauptsächlich darum\, reine Klone ihrer Helden zu sein. Viel wichtiger ist ihnen\, mit sphärischen Klängen und Soundflächen\, die einzigartige Atmosphäre der Cure-Songs zu erzeugen und auf das Publikum zu übertragen.Somit sind die eigentlichen Stars des Abends die unvergänglichen Songs von The Cure\, die Generationen von Gothic/Alternative/Pop-Bands bis heute geprägt haben.Veranstalter: Ticket- und Konzertservice Rastatt in Kooperation mit Wirtschaft & Veranstaltungen
CLASS:PUBLIC
X-ALT-DESC;FMTTYPE=text/html:5. März 2027\, 20:00 Uhr | Four Imaginary Boys - Deutschlands gefragteste sowie Europas meistgebuchte The Cure Tribute Band - besteht aus vier Herzblutmusikern\, die sich seit 2006 leidenschaftlich dem Gesamtwerk von The Cure widmen und dem Geist der legendären Wave-Götter huldigen.Spricht man von The Cure\, denkt man an die unverwechselbare und unnachahmliche Stimme von Robert Smith. Imitation oder gar Parodie verbieten sich\, nur gut\, dass es sich beim Frontmann der Four Imaginary Boys um einen vokalen Seelenverwandten zu handeln scheint.Dabei geht es den Four Imaginary Boys nicht hauptsächlich darum\, reine Klone ihrer Helden zu sein. Viel wichtiger ist ihnen\, mit sphärischen Klängen und Soundflächen\, die einzigartige Atmosphäre der Cure-Songs zu erzeugen und auf das Publikum zu übertragen.Somit sind die eigentlichen Stars des Abends die unvergänglichen Songs von The Cure\, die Generationen von Gothic/Alternative/Pop-Bands bis heute geprägt haben.Veranstalter: Ticket- und Konzertservice Rastatt in Kooperation mit Wirtschaft & Veranstaltungen
END:VEVENT
BEGIN:VEVENT
DTSTART:20270319T190000Z
DTEND:20270319T210000Z
DTSTAMP:20260426T040937Z
UID:670927573-670927573-1805410800000
SUMMARY:ROX! The Roxette Experience
LOCATION:Reithalle Bürgersaal\, Am Schlossplatz 9
DESCRIPTION:19. März 2027\, 20:00 Uhr | ROXETTE ist nach ABBA der erfolgreichste schwedische Export im Bereich Rock und Pop. Jeder kennt die Hits "The Look"\, "Listen to your heart"\, "It must have been love"\, die Roxette in den 90er Jahren weltbekannt gemacht haben. ROX! ist eine niederländische Roxette-Tributeband\, die sich zur Aufgabe gemacht hat\, diesen Zeitgeist wieder auf die Bühne zu bringen. Einem größeren Publikum wurde die Band durch Ihre Teilnahme an der SAT.1 Show "The Tribute" bekannt\, in welcher ROX das Halbfinale erreichte. Um dem Ganzen den letzten Schliff zu geben\, wird alles aufgefahren was nötig ist\, um dem Original so nah wie möglich zu kommen. Vom originalgetreuen Outfit\, bis hin zu vielen Original-Instrumenten sehen die Zuschauer einen Auftritt auf höchstem Niveau der sie zurück in die Glanzzeit von Roxette katapultiert. ROX! Bietet eine Greatest Hits-Show mit Songs\, die Sie mitsingen und mittanzen lassen wird. Eine Show\, die die Emotionen und Gefühle aufleben lässt\, die wir alle hatten\, als diese Klassiker zum ersten Mal aus dem Radio-Lautsprecher kamen!Veranstalter: Ticket- und Konzertservice Rastatt
CLASS:PUBLIC
X-ALT-DESC;FMTTYPE=text/html:19. März 2027\, 20:00 Uhr | ROXETTE ist nach ABBA der erfolgreichste schwedische Export im Bereich Rock und Pop. Jeder kennt die Hits "The Look"\, "Listen to your heart"\, "It must have been love"\, die Roxette in den 90er Jahren weltbekannt gemacht haben. ROX! ist eine niederländische Roxette-Tributeband\, die sich zur Aufgabe gemacht hat\, diesen Zeitgeist wieder auf die Bühne zu bringen. Einem größeren Publikum wurde die Band durch Ihre Teilnahme an der SAT.1 Show "The Tribute" bekannt\, in welcher ROX das Halbfinale erreichte. Um dem Ganzen den letzten Schliff zu geben\, wird alles aufgefahren was nötig ist\, um dem Original so nah wie möglich zu kommen. Vom originalgetreuen Outfit\, bis hin zu vielen Original-Instrumenten sehen die Zuschauer einen Auftritt auf höchstem Niveau der sie zurück in die Glanzzeit von Roxette katapultiert. ROX! Bietet eine Greatest Hits-Show mit Songs\, die Sie mitsingen und mittanzen lassen wird. Eine Show\, die die Emotionen und Gefühle aufleben lässt\, die wir alle hatten\, als diese Klassiker zum ersten Mal aus dem Radio-Lautsprecher kamen!Veranstalter: Ticket- und Konzertservice Rastatt
END:VEVENT
BEGIN:VEVENT
DTSTART:20270320T190000Z
DTEND:20270320T210000Z
DTSTAMP:20260426T040937Z
UID:670927577-670927577-1805497200000
SUMMARY:Willy & The Poor Boys - PLAYING THE MUSIC OF CREEDENCE CLEARWATER REVIVAL
LOCATION:Reithalle Bürgersaal\, Am Schlossplatz 9
DESCRIPTION:20. März 2027\, 20:00 Uhr | Mit den Welthits der legendären amerikanischen Band Creedence Clearwater Revival (CCR) wie Proud Mary\, Have You Ever Seen The Rain\, Bad Moon Rising\, Down On The Corner\, Who'll Stop The Rain\, Rockin' All Over The World\, Suzie Q oder Hey Tonight haben sich WILLY and the POOR BOYS seit ihrer Gründung im Jahr 2010 weit über die Grenzen Deutschlands hinaus einen exzellenten Ruf als authentischste und erfolgreichste CCR-Tributeband erworben.Shows als Top-Act beim 3. Internationalen CCR-Fantreffen\, in Funk und Fernsehen\, beim Independence Day auf Deutschlands größter Airbase vor 10.000 restlos begeisterten amerikanischen Zuschauern\, beim international besetzten Open Air des Rock’n’Popmuseums an der holländischen Grenze – ebenfalls vor mehreren tausend Zuschauern – sowie bei einer vielseitigen Mischung aus Open Airs\, Stadt- und Parkfesten\, ausverkauften Konzerten in Kulturzentren und Clubs sowie zahlreichen privaten Veranstaltungen haben diesen Ruf gefestigt.Keine andere Band kommt näher an das Original heran.Veranstalter: Ticket- und Konzertservice Rastatt in Kooperation mit Wirtschaft & Veranstaltungen\, Eigenbetrieb der Stadt Rastatt
CLASS:PUBLIC
X-ALT-DESC;FMTTYPE=text/html:20. März 2027\, 20:00 Uhr | Mit den Welthits der legendären amerikanischen Band Creedence Clearwater Revival (CCR) wie Proud Mary\, Have You Ever Seen The Rain\, Bad Moon Rising\, Down On The Corner\, Who'll Stop The Rain\, Rockin' All Over The World\, Suzie Q oder Hey Tonight haben sich WILLY and the POOR BOYS seit ihrer Gründung im Jahr 2010 weit über die Grenzen Deutschlands hinaus einen exzellenten Ruf als authentischste und erfolgreichste CCR-Tributeband erworben.Shows als Top-Act beim 3. Internationalen CCR-Fantreffen\, in Funk und Fernsehen\, beim Independence Day auf Deutschlands größter Airbase vor 10.000 restlos begeisterten amerikanischen Zuschauern\, beim international besetzten Open Air des Rock&rsquo;n&rsquo;Popmuseums an der holländischen Grenze &ndash; ebenfalls vor mehreren tausend Zuschauern &ndash; sowie bei einer vielseitigen Mischung aus Open Airs\, Stadt- und Parkfesten\, ausverkauften Konzerten in Kulturzentren und Clubs sowie zahlreichen privaten Veranstaltungen haben diesen Ruf gefestigt.Keine andere Band kommt näher an das Original heran.Veranstalter: Ticket- und Konzertservice Rastatt in Kooperation mit Wirtschaft & Veranstaltungen\, Eigenbetrieb der Stadt Rastatt
END:VEVENT
BEGIN:VEVENT
DTSTART:20270327T140000Z
DTEND:20270327T160000Z
DTSTAMP:20260426T040937Z
UID:670927581-670927581-1806102000000
SUMMARY:Schneekönigin – das Musical
LOCATION:BadnerHalle\, Kapellenstraße 20-22
DESCRIPTION:27. März 2027\, 15:00 Uhr | Zwischen Traumwelt und Wirklichkeit: Im Musical-Highlight „Schneekönigin“ wird das Publikum Teil eines spannenden Abenteuers mit zauberhaften Wesen und unbegrenzten Möglichkeiten. Eigens komponierte Musicalsongs\, jede Menge Humor und ganz viel Herz sorgen für ein unverwechselbares Live-Erlebnis für die ganze Familie! Das Theater Liberi inszeniert das bekannte Märchen von Hans Christian Andersen als moderne Musicaladaption. Das professionelle Musical-Ensemble erzählt die Geschichte von der Einsamkeit einer Außenseiterin und ihrem Wunsch nach Bewunderung und Akzeptanz\, aber auch von Mut und bedingungsloser Freundschaft. Dieser Kontrast spiegelt sich auch im Bühnenbild wider\, das die Grenzen zwischen Fantasie und Realität verschwimmen lässt. Musikalisch wird dem Publikum eine rasante Reise durch verschiedene Genres mit großen Arrangements geboten\, abgerundet von eindrucksvollen Choreografien und einem außergewöhnlichen Lichtdesign. Gerda und Kay sind beste Freunde und seit Kindheitstagen unzertrennlich. Die beiden führen ein ganz normales Leben\, bis eines Tages ein Wintersturm über ihrer Stadt aufzieht. An diesem Abend erzählt Gerdas Mutter den beiden zum ersten Mal die Geschichte einer magischen Königin\, der Herrscherin über Schnee und Eis. Als Kay kurz darauf spurlos verschwindet\, macht sich Gerda auf die Suche nach ihm. Sie landet in einer geheimnisvollen Welt\, in der alles möglich zu sein scheint. Plötzlich ist Gerda mittendrin in einem Abenteuer\, in dem sie auf witzige Gestalten trifft\, eine exzentrische Bekanntschaft macht und in die Fänge einer schrägen Bande gerät. Zum Glück ist sie nicht auf sich alleingestellt und kann auf unerwartete Hilfe zählen. Doch die Zeit wird knapp und Gerda muss all ihren Mut aufbringen\, um Kay aus der eisigen Welt der Schneekönigin zu retten… Infos und Tickets: Das Musical dauert zwei Stunden inklusive 20 Minuten Pause und ist geeignet für Zuschauer ab vier Jahren. Tickets sind erhältlich unter www.theater-liberi.de/tickets sowie bei allen bekannten Vorverkaufsstellen. Veranstalter: Theater Liberi
CLASS:PUBLIC
X-ALT-DESC;FMTTYPE=text/html:27. März 2027\, 15:00 Uhr | Zwischen Traumwelt und Wirklichkeit: Im Musical-Highlight &bdquo;Schneekönigin&ldquo; wird das Publikum Teil eines spannenden Abenteuers mit zauberhaften Wesen und unbegrenzten Möglichkeiten. Eigens komponierte Musicalsongs\, jede Menge Humor und ganz viel Herz sorgen für ein unverwechselbares Live-Erlebnis für die ganze Familie! Das Theater Liberi inszeniert das bekannte Märchen von Hans Christian Andersen als moderne Musicaladaption. Das professionelle Musical-Ensemble erzählt die Geschichte von der Einsamkeit einer Außenseiterin und ihrem Wunsch nach Bewunderung und Akzeptanz\, aber auch von Mut und bedingungsloser Freundschaft. Dieser Kontrast spiegelt sich auch im Bühnenbild wider\, das die Grenzen zwischen Fantasie und Realität verschwimmen lässt. Musikalisch wird dem Publikum eine rasante Reise durch verschiedene Genres mit großen Arrangements geboten\, abgerundet von eindrucksvollen Choreografien und einem außergewöhnlichen Lichtdesign. Gerda und Kay sind beste Freunde und seit Kindheitstagen unzertrennlich. Die beiden führen ein ganz normales Leben\, bis eines Tages ein Wintersturm über ihrer Stadt aufzieht. An diesem Abend erzählt Gerdas Mutter den beiden zum ersten Mal die Geschichte einer magischen Königin\, der Herrscherin über Schnee und Eis. Als Kay kurz darauf spurlos verschwindet\, macht sich Gerda auf die Suche nach ihm. Sie landet in einer geheimnisvollen Welt\, in der alles möglich zu sein scheint. Plötzlich ist Gerda mittendrin in einem Abenteuer\, in dem sie auf witzige Gestalten trifft\, eine exzentrische Bekanntschaft macht und in die Fänge einer schrägen Bande gerät. Zum Glück ist sie nicht auf sich alleingestellt und kann auf unerwartete Hilfe zählen. Doch die Zeit wird knapp und Gerda muss all ihren Mut aufbringen\, um Kay aus der eisigen Welt der Schneekönigin zu retten&hellip; Infos und Tickets: Das Musical dauert zwei Stunden inklusive 20 Minuten Pause und ist geeignet für Zuschauer ab vier Jahren. Tickets sind erhältlich unter www.theater-liberi.de/tickets sowie bei allen bekannten Vorverkaufsstellen. Veranstalter: Theater Liberi
END:VEVENT
END:VCALENDAR
