BEGIN:VCALENDAR
PRODID:-//dvv-bw.de//dvv.Portalplattform//DE
VERSION:2.0
METHOD:PUBLISH
BEGIN:VEVENT
DTSTART:20260513T220000Z
DTEND:20260513T220000Z
DTSTAMP:20260424T003216Z
UID:670654562-670654455-1778709600000
SUMMARY:Spargelfest 2026
LOCATION:Oberwaldhalle Rauental, Am Vogelsand 40
DESCRIPTION:Unser jährliches Spargelfest in Rauental vor und in der Oberwaldhalle.
CLASS:PUBLIC
X-ALT-DESC;FMTTYPE=text/html:Unser jährliches Spargelfest in Rauental vor und in der Oberwaldhalle.
END:VEVENT
END:VCALENDAR
