BEGIN:VCALENDAR
PRODID:-//dvv-bw.de//dvv.Portalplattform//DE
VERSION:2.0
METHOD:PUBLISH
BEGIN:VEVENT
DTSTART:20260522T170000Z
DTEND:20260522T190000Z
DTSTAMP:20260423T022000Z
UID:669801155-667735702-1779400800000
SUMMARY:Nachtwächterführung
LOCATION:Tourist-Information Rastatt\, Kapellenstraße 34
DESCRIPTION:Kostümführung mit dem Rastatter Nachtwächter
CLASS:PUBLIC
X-ALT-DESC;FMTTYPE=text/html:Kostümführung mit dem Rastatter Nachtwächter
END:VEVENT
END:VCALENDAR
